BEGIN:VCALENDAR
VERSION:2.0
PRODID:-//Plone.org//NONSGML plone.app.event//EN
X-WR-TIMEZONE:Europe/Madrid
BEGIN:VEVENT
SUMMARY:Event sample
DTSTART;TZID=Europe/Madrid:20190618T150000
DTEND;TZID=Europe/Madrid:20200413T150000
DTSTAMP:20260425T045143Z
UID:9a0d15adb43a44c598e4f6cf9c170cff@egeo.upc.edu
CONTACT:Event manager\, adreca@noreply.com
CREATED:20190618T131202Z
LAST-MODIFIED:20190618T131202Z
LOCATION:Event place
URL:https://egeo.upc.edu/en/events/event-sample
END:VEVENT
BEGIN:VTIMEZONE
TZID:Europe/Madrid
X-LIC-LOCATION:Europe/Madrid
BEGIN:DAYLIGHT
DTSTART:20190331T030000
TZNAME:CEST
TZOFFSETFROM:+0100
TZOFFSETTO:+0200
END:DAYLIGHT
BEGIN:DAYLIGHT
DTSTART:20200329T030000
TZNAME:CEST
TZOFFSETFROM:+0100
TZOFFSETTO:+0200
END:DAYLIGHT
END:VTIMEZONE
END:VCALENDAR
